BEGIN:VCALENDAR
VERSION:2.0
PRODID:-//PlantBased Solutions - ECPv6.15.20//NONSGML v1.0//EN
CALSCALE:GREGORIAN
METHOD:PUBLISH
X-WR-CALNAME:PlantBased Solutions
X-ORIGINAL-URL:https://plantbasedsolutions.com
X-WR-CALDESC:Events for PlantBased Solutions
REFRESH-INTERVAL;VALUE=DURATION:PT1H
X-Robots-Tag:noindex
X-PUBLISHED-TTL:PT1H
BEGIN:VTIMEZONE
TZID:America/New_York
BEGIN:DAYLIGHT
TZOFFSETFROM:-0500
TZOFFSETTO:-0400
TZNAME:EDT
DTSTART:20180311T070000
END:DAYLIGHT
BEGIN:STANDARD
TZOFFSETFROM:-0400
TZOFFSETTO:-0500
TZNAME:EST
DTSTART:20181104T060000
END:STANDARD
BEGIN:DAYLIGHT
TZOFFSETFROM:-0500
TZOFFSETTO:-0400
TZNAME:EDT
DTSTART:20190310T070000
END:DAYLIGHT
BEGIN:STANDARD
TZOFFSETFROM:-0400
TZOFFSETTO:-0500
TZNAME:EST
DTSTART:20191103T060000
END:STANDARD
BEGIN:DAYLIGHT
TZOFFSETFROM:-0500
TZOFFSETTO:-0400
TZNAME:EDT
DTSTART:20200308T070000
END:DAYLIGHT
BEGIN:STANDARD
TZOFFSETFROM:-0400
TZOFFSETTO:-0500
TZNAME:EST
DTSTART:20201101T060000
END:STANDARD
END:VTIMEZONE
BEGIN:VEVENT
DTSTART;TZID=America/New_York:20190911T100000
DTEND;TZID=America/New_York:20190914T180000
DTSTAMP:20260421T025508
CREATED:20190822T221051Z
LAST-MODIFIED:20190827T153033Z
UID:917-1568196000-1568484000@plantbasedsolutions.com
SUMMARY:Natural Products Expo East 2019
DESCRIPTION:Natural Products Expo East is a food industry trade show that brings together brands\, buyers\, investors\, entrepreneurs and industry experts.\nThe event is packed with valuable education events\, amazing speakers\, and valuable networking opportunities. Experience more products\, more education\, and more ways to connect. Build relationships that can change the world! Much of the growth in natural products comes as a result of entrepreneurial brands bringing innovative ideas and new flavors to the table — and the expo floor. \n“We think there is a huge opportunity to bring some fun and innovation to the bean category. Prior to Expo East\, only a small handful of people had heard our story and tried our products\, so it’s been really exciting to share our brand with so many people and to get such positive feedback.” \n~ Ibraheem Basir\, Founder & CEO of A Dozen Cousins \nWe hope to see you at Expo East!\n\n[button color=”custom” link=”https://www.expoeast.com/en/register/badge-registration-pricing.html” size=”xxx-large” target=”_blank” block=”false” bg=”#4f8d44″ bg_hover=”#d6d754″ border=”#cccccc” text=”#ffffff” text_hover=”#333333″ include_bg=”true” include_border=”true”]REGISTER NOW[/button]
URL:https://plantbasedsolutions.com/event/natural-products-expo-east-2019/
LOCATION:Baltimore Convention Center\, One West Pratt Street\, Baltimore\, MD\, 21201\, United States
CATEGORIES:Industry Events
ATTACH;FMTTYPE=image/jpeg:https://plantbasedsolutions.com/wp-content/uploads/2019/08/Expo-East-2019.jpg
ORGANIZER;CN="New Hope Network":MAILTO:editor@newhope.com
END:VEVENT
END:VCALENDAR